BEGIN:VCALENDAR
VERSION:2.0
PRODID:-//Squarespace Inc/Squarespace 6//v6//EN
BEGIN:VEVENT
UID:5d609b77836f2c0001eb14bf@squarespace.com
DTSTAMP:20191002T144826Z
DTSTART:20191011T090000Z
DTEND:20191011T113000Z
SUMMARY:Live Music @ Bermagui Country Club
END:VEVENT
END:VCALENDAR
