BEGIN:VCALENDAR
VERSION:2.0
PRODID:-//Squarespace Inc/Squarespace 6//v6//EN
BEGIN:VEVENT
UID:5e55c6d76212a045e9656f8a@squarespace.com
DTSTAMP:20200226T011639Z
DTSTART:20200313T090000Z
DTEND:20200313T113000Z
SUMMARY:Live Music @ Bermagui Country Club
END:VEVENT
END:VCALENDAR
