BEGIN:VCALENDAR
VERSION:2.0
PRODID:-//Squarespace Inc/Squarespace 6//v6//EN
BEGIN:VEVENT
UID:5d6f5c0f783c3b000194e86e@squarespace.com
DTSTAMP:20190904T064300Z
DTSTART:20191020T030000Z
DTEND:20191020T060000Z
SUMMARY:Zephyrs Jazz presents "Women Do Jazz"
END:VEVENT
END:VCALENDAR
