BEGIN:VCALENDAR
VERSION:2.0
PRODID:-//Squarespace Inc/Squarespace 6//v6//EN
BEGIN:VEVENT
UID:5de0b23f5043fe7cebf5758b@squarespace.com
DTSTAMP:20191129T213405Z
DTSTART:20191208T050000Z
DTEND:20191208T080000Z
SUMMARY:Live Music @ Bermagui Beach Hotel
END:VEVENT
END:VCALENDAR
