BEGIN:VCALENDAR
VERSION:2.0
PRODID:-//Squarespace Inc/Squarespace 6//v6//EN
BEGIN:VEVENT
UID:5de0c61c2104bb5045928baf@squarespace.com
DTSTAMP:20191130T022349Z
DTSTART:20191219T060000Z
DTEND:20191219T080000Z
SUMMARY:Barefoot Bowls @ Bermagui Country Club
END:VEVENT
END:VCALENDAR
