BEGIN:VCALENDAR
VERSION:2.0
PRODID:-//Squarespace Inc/Squarespace 6//v6//EN
BEGIN:VEVENT
UID:5e310ea1de9c0144fe8eec62@squarespace.com
DTSTAMP:20200129T044850Z
DTSTART:20200207T080000Z
DTEND:20200207T110000Z
SUMMARY:Open Mic @ The River Rock Cafe
END:VEVENT
END:VCALENDAR
