BEGIN:VCALENDAR
VERSION:2.0
PRODID:-//Squarespace Inc/Squarespace 6//v6//EN
BEGIN:VEVENT
UID:5e3106c75e09e066cfdd9ba6@squarespace.com
DTSTAMP:20200129T041530Z
DTSTART:20200228T090000Z
DTEND:20200228T113000Z
SUMMARY:Live Music @ Bermagui Country Club
END:VEVENT
END:VCALENDAR
