BEGIN:VCALENDAR
VERSION:2.0
PRODID:-//Squarespace Inc/Squarespace 6//v6//EN
BEGIN:VEVENT
UID:5e001642b17a7d211e973fa5@squarespace.com
DTSTAMP:20191223T012119Z
DTSTART:20200131T090000Z
DTEND:20200131T113000Z
SUMMARY:Live Music @ Bermagui Country Club
END:VEVENT
END:VCALENDAR
