BEGIN:VCALENDAR
VERSION:2.0
PRODID:-//Squarespace Inc/Squarespace 6//v6//EN
BEGIN:VEVENT
UID:5de0b27c0c91bc6c3bbbc5ad@squarespace.com
DTSTAMP:20191129T055433Z
DTSTART:20191215T050000Z
DTEND:20191215T080000Z
SUMMARY:Live Music @ Bermagui Beach Hotel
END:VEVENT
END:VCALENDAR
