BEGIN:VCALENDAR
VERSION:2.0
PRODID:-//Squarespace Inc/Squarespace 6//v6//EN
BEGIN:VEVENT
UID:5de0b2f7305b2260c99b3944@squarespace.com
DTSTAMP:20191129T055644Z
DTSTART:20191230T080000Z
DTEND:20191230T110000Z
SUMMARY:Live Music @ Bermagui Beach Hotel
END:VEVENT
END:VCALENDAR
