BEGIN:VCALENDAR
VERSION:2.0
PRODID:-//Squarespace Inc/Squarespace 6//v6//EN
BEGIN:VEVENT
UID:5dbcbfeee9a2667a916a9f82@squarespace.com
DTSTAMP:20191101T233040Z
DTSTART:20191103T050000Z
DTEND:20191103T080000Z
SUMMARY:Live Music @ Bermagui Beach Hotel
END:VEVENT
END:VCALENDAR
