BEGIN:VCALENDAR
VERSION:2.0
PRODID:-//Squarespace Inc/Squarespace 6//v6//EN
BEGIN:VEVENT
UID:5d479d5e8fefae00012b0ef8@squarespace.com
DTSTAMP:20190808T012907Z
DTSTART:20190817T030000Z
DTEND:20190817T050000Z
SUMMARY:Windsong Series 2 - Kenny Broberg Piano Recital
GEO:-36.499352;150.049092
LOCATION:Four Winds Road\, Barragga Bay
END:VEVENT
END:VCALENDAR
