BEGIN:VCALENDAR
VERSION:2.0
PRODID:-//Squarespace Inc/Squarespace 6//v6//EN
BEGIN:VEVENT
UID:5de7470891057c05bf54ffef@squarespace.com
DTSTAMP:20191204T054823Z
DTSTART:20191207T073000Z
DTEND:20191207T113000Z
SUMMARY:Waikama @ Quarterdeck Narooma
END:VEVENT
END:VCALENDAR
