BEGIN:VCALENDAR
VERSION:2.0
PRODID:-//Squarespace Inc/Squarespace 6//v6//EN
BEGIN:VEVENT
UID:5e4cb6ee9c8f9174c285a71d@squarespace.com
DTSTAMP:20200219T042332Z
DTSTART:20200220T083000Z
DTEND:20200220T113000Z
SUMMARY:Vendulka @ The River Rock Cafe
END:VEVENT
END:VCALENDAR
