BEGIN:VCALENDAR
VERSION:2.0
PRODID:-//Squarespace Inc/Squarespace 6//v6//EN
BEGIN:VEVENT
UID:5e3112d94c3c06486ad8c322@squarespace.com
DTSTAMP:20200129T050834Z
DTSTART:20200201T040000Z
DTEND:20200229T070000Z
SUMMARY:Twilight Golf @ Bermagui Country Club
END:VEVENT
END:VCALENDAR
