BEGIN:VCALENDAR
VERSION:2.0
PRODID:-//Squarespace Inc/Squarespace 6//v6//EN
BEGIN:VEVENT
UID:5dbe4eb090a19c6c65829847@squarespace.com
DTSTAMP:20191103T035607Z
DTSTART:20191101T040000Z
DTEND:20191130T070000Z
SUMMARY:Twilight Golf @ Bermagui Country Club
END:VEVENT
END:VCALENDAR
