BEGIN:VCALENDAR
VERSION:2.0
PRODID:-//Squarespace Inc/Squarespace 6//v6//EN
BEGIN:VEVENT
UID:5de0c389a06c926920380a60@squarespace.com
DTSTAMP:20191129T070921Z
DTSTART:20191201T040000Z
DTEND:20191231T070000Z
SUMMARY:Twilight Golf @ Bermagui Country Club
END:VEVENT
END:VCALENDAR
