BEGIN:VCALENDAR
VERSION:2.0
PRODID:-//Squarespace Inc/Squarespace 6//v6//EN
BEGIN:VEVENT
UID:5d609a3c35212400015140e9@squarespace.com
DTSTAMP:20191002T114231Z
DTSTART:20191001T050000Z
DTEND:20191031T070000Z
SUMMARY:Twilight Golf @ Bermagui Country Club
END:VEVENT
END:VCALENDAR
