BEGIN:VCALENDAR
VERSION:2.0
PRODID:-//Squarespace Inc/Squarespace 6//v6//EN
BEGIN:VEVENT
UID:5e3187c892580770733396fe@squarespace.com
DTSTAMP:20200129T132734Z
DTSTART:20200206T060000Z
DTEND:20200206T080000Z
SUMMARY:Twilight Bowls @ Bermagui Country Club
END:VEVENT
END:VCALENDAR
