BEGIN:VCALENDAR
VERSION:2.0
PRODID:-//Squarespace Inc/Squarespace 6//v6//EN
BEGIN:VEVENT
UID:5d94640931a18d6551e32f9c@squarespace.com
DTSTAMP:20191002T084859Z
DTSTART:20191005T023000Z
DTEND:20191005T043000Z
SUMMARY:The Wisecracks @ Mimosa Winery
END:VEVENT
END:VCALENDAR
