BEGIN:VCALENDAR
VERSION:2.0
PRODID:-//Squarespace Inc/Squarespace 6//v6//EN
BEGIN:VEVENT
UID:5d946486d5847b0bd6b6bd82@squarespace.com
DTSTAMP:20191002T085057Z
DTSTART:20191006T020000Z
DTEND:20191006T050000Z
SUMMARY:The Wisecracks @ Camel Rock Brewery &amp\; Cafe
END:VEVENT
END:VCALENDAR
