BEGIN:VCALENDAR
VERSION:2.0
PRODID:-//Squarespace Inc/Squarespace 6//v6//EN
BEGIN:VEVENT
UID:5df5991c34929a2cbf1c90ea@squarespace.com
DTSTAMP:20191215T022625Z
DTSTART:20200130T073000Z
DTEND:20200130T120000Z
SUMMARY:The Tequila Mockingbird Orchestra @ Quarterdeck Narooma
END:VEVENT
END:VCALENDAR
