BEGIN:VCALENDAR
VERSION:2.0
PRODID:-//Squarespace Inc/Squarespace 6//v6//EN
BEGIN:VEVENT
UID:5d948372d5847b0bd6b87884@squarespace.com
DTSTAMP:20191002T110242Z
DTSTART:20191013T020000Z
DTEND:20191013T050000Z
SUMMARY:Sunday Sesh @ Camel Rock Brewery &amp\; Cafe
END:VEVENT
END:VCALENDAR
