BEGIN:VCALENDAR
VERSION:2.0
PRODID:-//Squarespace Inc/Squarespace 6//v6//EN
BEGIN:VEVENT
UID:5d9483dea019a26aaa108d32@squarespace.com
DTSTAMP:20191002T110334Z
DTSTART:20191020T020000Z
DTEND:20191020T050000Z
SUMMARY:Sunday Sesh @ Camel Rock Brewery &amp\; Cafe
END:VEVENT
END:VCALENDAR
