BEGIN:VCALENDAR
VERSION:2.0
PRODID:-//Squarespace Inc/Squarespace 6//v6//EN
BEGIN:VEVENT
UID:5d451ffd5832920001fe3f7f@squarespace.com
DTSTAMP:20190808T013015Z
DTSTART:20190818T030000Z
DTEND:20190818T060000Z
SUMMARY:Sunday Sesh @ Camel Rock Brewery &amp\; Cafe
GEO:-36.383058;150.070827
LOCATION:186-188 Wallaga Lake Road\, Wallaga Lake\, (in grounds of BIG4 Wal
 laga Lake Holiday Park)
END:VEVENT
END:VCALENDAR
