BEGIN:VCALENDAR
VERSION:2.0
PRODID:-//Squarespace Inc/Squarespace 6//v6//EN
BEGIN:VEVENT
UID:5de0cb42e6b0e7013a5501d1@squarespace.com
DTSTAMP:20191129T074026Z
DTSTART:20191208T020000Z
DTEND:20191208T050000Z
SUMMARY:Sunday Sesh @ Camel Rock Brewery &amp\; Cafe
END:VEVENT
END:VCALENDAR
