BEGIN:VCALENDAR
VERSION:2.0
PRODID:-//Squarespace Inc/Squarespace 6//v6//EN
BEGIN:VEVENT
UID:5dbe50276164d93f9b606067@squarespace.com
DTSTAMP:20200129T051144Z
DTSTART:20200306T070000Z
DTEND:20200315T090000Z
SUMMARY:Sculpture Bermagui 2020
END:VEVENT
END:VCALENDAR
