BEGIN:VCALENDAR
VERSION:2.0
PRODID:-//Squarespace Inc/Squarespace 6//v6//EN
BEGIN:VEVENT
UID:5d6f5b4fc5285d0001f059ef@squarespace.com
DTSTAMP:20191002T073520Z
DTSTART:20190930T230000Z
DTEND:20191022T220000Z
SUMMARY:Sail With the Whales on Pelican 1
END:VEVENT
END:VCALENDAR
