BEGIN:VCALENDAR
VERSION:2.0
PRODID:-//Squarespace Inc/Squarespace 6//v6//EN
BEGIN:VEVENT
UID:5e3900bcb4759d5b6a460433@squarespace.com
DTSTAMP:20200204T052754Z
DTSTART:20200216T050000Z
DTEND:20200216T080000Z
SUMMARY:Live Music @ Bermagui Beach Hotel
END:VEVENT
END:VCALENDAR
