BEGIN:VCALENDAR
VERSION:2.0
PRODID:-//Squarespace Inc/Squarespace 6//v6//EN
BEGIN:VEVENT
UID:5d58a730540929000160ffc5@squarespace.com
DTSTAMP:20200129T051419Z
DTSTART:20201002T213000Z
DTEND:20201004T050000Z
SUMMARY:ReBoot in Bermagui 2020
END:VEVENT
END:VCALENDAR
