BEGIN:VCALENDAR
VERSION:2.0
PRODID:-//Squarespace Inc/Squarespace 6//v6//EN
BEGIN:VEVENT
UID:5e3900e4f9e0384947643a1c@squarespace.com
DTSTAMP:20200204T052829Z
DTSTART:20200223T050000Z
DTEND:20200223T080000Z
SUMMARY:Live Music @ Bermagui Beach Hotel
END:VEVENT
END:VCALENDAR
