BEGIN:VCALENDAR
VERSION:2.0
PRODID:-//Squarespace Inc/Squarespace 6//v6//EN
BEGIN:VEVENT
UID:5e310728d21fdf2df7124071@squarespace.com
DTSTAMP:20200129T041657Z
DTSTART:20200213T040000Z
DTEND:20200213T060000Z
SUMMARY:Bermagui Growers Market
END:VEVENT
END:VCALENDAR
