BEGIN:VCALENDAR
VERSION:2.0
PRODID:-//Squarespace Inc/Squarespace 6//v6//EN
BEGIN:VEVENT
UID:5e55c700488e7a12a9dfdabc@squarespace.com
DTSTAMP:20200226T011721Z
DTSTART:20200320T090000Z
DTEND:20200320T113000Z
SUMMARY:Live Music @ Bermagui Country Club
END:VEVENT
END:VCALENDAR
