BEGIN:VCALENDAR
VERSION:2.0
PRODID:-//Squarespace Inc/Squarespace 6//v6//EN
BEGIN:VEVENT
UID:5e3105afde9c0144fe8d3dac@squarespace.com
DTSTAMP:20200129T041109Z
DTSTART:20200207T090000Z
DTEND:20200207T113000Z
SUMMARY:Live Music @ Bermagui Country Club
END:VEVENT
END:VCALENDAR
