BEGIN:VCALENDAR
VERSION:2.0
PRODID:-//Squarespace Inc/Squarespace 6//v6//EN
BEGIN:VEVENT
UID:5dbe40fe8fc82a626b898cc5@squarespace.com
DTSTAMP:20191103T025506Z
DTSTART:20191108T080000Z
DTEND:20191108T110000Z
SUMMARY:Open Mic @ The River Rock Cafe
END:VEVENT
END:VCALENDAR
