BEGIN:VCALENDAR
VERSION:2.0
PRODID:-//Squarespace Inc/Squarespace 6//v6//EN
BEGIN:VEVENT
UID:5de0ca1fd36d6241f1595d96@squarespace.com
DTSTAMP:20191129T073528Z
DTSTART:20191220T080000Z
DTEND:20191220T113000Z
SUMMARY:Open Mic @ The River Rock Cafe
END:VEVENT
END:VCALENDAR
