BEGIN:VCALENDAR
VERSION:2.0
PRODID:-//Squarespace Inc/Squarespace 6//v6//EN
BEGIN:VEVENT
UID:5de0c9fe2104bb504592d6c7@squarespace.com
DTSTAMP:20191129T073447Z
DTSTART:20191213T080000Z
DTEND:20191213T113000Z
SUMMARY:Open Mic @ The River Rock Cafe
END:VEVENT
END:VCALENDAR
