BEGIN:VCALENDAR
VERSION:2.0
PRODID:-//Squarespace Inc/Squarespace 6//v6//EN
BEGIN:VEVENT
UID:5de0c9ae0c91bc6c3bbda357@squarespace.com
DTSTAMP:20191129T073403Z
DTSTART:20191206T080000Z
DTEND:20191206T113000Z
SUMMARY:Open Mic @ The River Rock Cafe
END:VEVENT
END:VCALENDAR
