BEGIN:VCALENDAR
VERSION:2.0
PRODID:-//Squarespace Inc/Squarespace 6//v6//EN
BEGIN:VEVENT
UID:5e310e67d9f93063aa9a977a@squarespace.com
DTSTAMP:20200129T044823Z
DTSTART:20200131T080000Z
DTEND:20200131T110000Z
SUMMARY:Open Mic @ The River Rock Cafe
END:VEVENT
END:VCALENDAR
