BEGIN:VCALENDAR
VERSION:2.0
PRODID:-//Squarespace Inc/Squarespace 6//v6//EN
BEGIN:VEVENT
UID:5de0cca551c72e2c5e166f4c@squarespace.com
DTSTAMP:20191129T074558Z
DTSTART:20191212T040000Z
DTEND:20191212T060000Z
SUMMARY:Bermagui Growers Market
END:VEVENT
END:VCALENDAR
