BEGIN:VCALENDAR
VERSION:2.0
PRODID:-//Squarespace Inc/Squarespace 6//v6//EN
BEGIN:VEVENT
UID:5de0cb7551c72e2c5e165dd5@squarespace.com
DTSTAMP:20191129T074103Z
DTSTART:20191215T020000Z
DTEND:20191215T050000Z
SUMMARY:Sunday Sesh @ Camel Rock Brewery &amp\; Cafe
END:VEVENT
END:VCALENDAR
