BEGIN:VCALENDAR
VERSION:2.0
PRODID:-//Squarespace Inc/Squarespace 6//v6//EN
BEGIN:VEVENT
UID:5dc642d8ac6af558c0b1c02c@squarespace.com
DTSTAMP:20191109T044054Z
DTSTART:20191231T060000Z
DTEND:20191231T100000Z
SUMMARY:New Year's Eve Family Fun Night @ Bermagui Country Club
END:VEVENT
END:VCALENDAR
