BEGIN:VCALENDAR
VERSION:2.0
PRODID:-//Squarespace Inc/Squarespace 6//v6//EN
BEGIN:VEVENT
UID:5de0b100a06c926920369b78@squarespace.com
DTSTAMP:20191129T054841Z
DTSTART:20191231T090000Z
DTEND:20191231T123000Z
SUMMARY:New Year's Eve @ Bermagui Country Club
END:VEVENT
END:VCALENDAR
