BEGIN:VCALENDAR
VERSION:2.0
PRODID:-//Squarespace Inc/Squarespace 6//v6//EN
BEGIN:VEVENT
UID:5de0b32302bf4d324f1d4dae@squarespace.com
DTSTAMP:20191129T213311Z
DTSTART:20191231T030000Z
DTEND:20191231T124500Z
SUMMARY:New Year's Eve @ Bermagui Beach Hotel
END:VEVENT
END:VCALENDAR
