BEGIN:VCALENDAR
VERSION:2.0
PRODID:-//Squarespace Inc/Squarespace 6//v6//EN
BEGIN:VEVENT
UID:5d85bade4f66404594308e2a@squarespace.com
DTSTAMP:20191002T145058Z
DTSTART:20191011T223000Z
DTEND:20191012T033000Z
SUMMARY:Montreal Goldfield Annual Heritage Day
END:VEVENT
END:VCALENDAR
