BEGIN:VCALENDAR
VERSION:2.0
PRODID:-//Squarespace Inc/Squarespace 6//v6//EN
BEGIN:VEVENT
UID:5dbcc4356164d93f9b48acf0@squarespace.com
DTSTAMP:20200226T011925Z
DTSTART:20200329T050000Z
DTEND:20200329T080000Z
SUMMARY:Monster Raffle @ Bermagui Country Club
END:VEVENT
END:VCALENDAR
