BEGIN:VCALENDAR
VERSION:2.0
PRODID:-//Squarespace Inc/Squarespace 6//v6//EN
BEGIN:VEVENT
UID:5d7f1c2848ca686605025f70@squarespace.com
DTSTAMP:20190916T052418Z
DTSTART:20190905T000000Z
DTEND:20191002T060000Z
SUMMARY:Masterworks Exhibition @ Shop7 ArtSpace
END:VEVENT
END:VCALENDAR
