BEGIN:VCALENDAR
VERSION:2.0
PRODID:-//Squarespace Inc/Squarespace 6//v6//EN
BEGIN:VEVENT
UID:5d784586511e5f22e21d5300@squarespace.com
DTSTAMP:20190916T053132Z
DTSTART:20191006T000000Z
DTEND:20191006T040000Z
SUMMARY:Marine Rescue Bermagui Base Open Day
END:VEVENT
END:VCALENDAR
