BEGIN:VCALENDAR
VERSION:2.0
PRODID:-//Squarespace Inc/Squarespace 6//v6//EN
BEGIN:VEVENT
UID:5e55c5f3a6cc764ba8812a45@squarespace.com
DTSTAMP:20200226T011305Z
DTSTART:20200315T050000Z
DTEND:20200315T080000Z
SUMMARY:Live Music @ Bermagui Beach Hotel
END:VEVENT
END:VCALENDAR
