BEGIN:VCALENDAR
VERSION:2.0
PRODID:-//Squarespace Inc/Squarespace 6//v6//EN
BEGIN:VEVENT
UID:5de0b07b2104bb504590e3ae@squarespace.com
DTSTAMP:20191129T054613Z
DTSTART:20191213T090000Z
DTEND:20191213T113000Z
SUMMARY:Live Music @ Bermagui Country Club
END:VEVENT
END:VCALENDAR
